BEGIN:VCALENDAR
VERSION:2.0
PRODID:https://github.com/derhansen/sf_event_mgt
METHOD:PUBLISH
BEGIN:VEVENT
UID:197-539@www.euroimmun.de
CLASS: PUBLIC
SUMMARY:Asia Pacific Association of Allergy, Asthma and Clinical Immunology (APAAACI)
DESCRIPTION:<p><a href="https://www.apaaaci2026.com/" target="_blank">Webse
 ite besuchen</a></p>
LOCATION:Ho-Chi-Minh-Stadt
DTSTART:20261204T070000Z
DTEND:20261206T150000Z
END:VEVENT
END:VCALENDAR