BEGIN:VCALENDAR
VERSION:2.0
PRODID:https://github.com/derhansen/sf_event_mgt
METHOD:PUBLISH
BEGIN:VEVENT
UID:222-539@www.euroimmun.de
CLASS: PUBLIC
SUMMARY:MEDICA 2026
DESCRIPTION:<p><a href="https://www.medica.de/" target="_blank">Webseite be
 suchen</a></p>
LOCATION:Düsseldorf
DTSTART:20261116T070000Z
DTEND:20261119T160000Z
END:VEVENT
END:VCALENDAR